BEGIN:VCALENDAR
VERSION:2.0
PRODID:-//Fresno Estates &amp; Auction Company - ECPv6.15.18//NONSGML v1.0//EN
CALSCALE:GREGORIAN
METHOD:PUBLISH
X-ORIGINAL-URL:https://fresnoauctioncompany.com
X-WR-CALDESC:Events for Fresno Estates &amp; Auction Company
REFRESH-INTERVAL;VALUE=DURATION:PT1H
X-Robots-Tag:noindex
X-PUBLISHED-TTL:PT1H
BEGIN:VTIMEZONE
TZID:America/Los_Angeles
BEGIN:DAYLIGHT
TZOFFSETFROM:-0800
TZOFFSETTO:-0700
TZNAME:PDT
DTSTART:20220313T100000
END:DAYLIGHT
BEGIN:STANDARD
TZOFFSETFROM:-0700
TZOFFSETTO:-0800
TZNAME:PST
DTSTART:20221106T090000
END:STANDARD
BEGIN:DAYLIGHT
TZOFFSETFROM:-0800
TZOFFSETTO:-0700
TZNAME:PDT
DTSTART:20230312T100000
END:DAYLIGHT
BEGIN:STANDARD
TZOFFSETFROM:-0700
TZOFFSETTO:-0800
TZNAME:PST
DTSTART:20231105T090000
END:STANDARD
BEGIN:DAYLIGHT
TZOFFSETFROM:-0800
TZOFFSETTO:-0700
TZNAME:PDT
DTSTART:20240310T100000
END:DAYLIGHT
BEGIN:STANDARD
TZOFFSETFROM:-0700
TZOFFSETTO:-0800
TZNAME:PST
DTSTART:20241103T090000
END:STANDARD
END:VTIMEZONE
BEGIN:VEVENT
DTSTART;TZID=America/Los_Angeles:20230429T080000
DTEND;TZID=America/Los_Angeles:20230429T170000
DTSTAMP:20260421T084328
CREATED:20230418T021314Z
LAST-MODIFIED:20230426T160951Z
UID:5069-1682755200-1682787600@fresnoauctioncompany.com
SUMMARY:4-29-23 Bravo Farmtiques Antiques and Collectable Auction 10am
DESCRIPTION:Bravo Farms in the Big Red Barn\n36005 Hwy 99\, (Exit 106A) Traver\, CA 93673\nApril 29\, 2023 at 10am\nPreview 8am to 10am \nClick Here for Additional Google scrollable and expandable photos \nAntique and collectible auction!! Bravo Bob and Kim are overstocked at the Barn and are holding an Auction to liquidate lots of great merchandise!!   \nItems include; \n\nvintage Wayne Model 70 gas pump\,\nGilbarco Model 1006 gas pumps\,\nvintage porcelain signs including; rare 48 in porcelain Red Crown Gasoline sign\, rare one of a kind porcelain signs from the cities of Visalia and Hanford California\, porcelain Road signs\, porcelain no parking signs\,\nrare vintage gold leaf on glass Kingsburg California jewelers sign\,\nvintage Anvil made by Peter Wright\,\nIdeal Nesbitt’s embossed soda machine\,\nold hardware store Butler Rotabins\,\nNiehoff parts cabinet\,\nvintage Sel-Oil oil can merchandiser cabinet\,\ngreen and white enamel Industrial Light shades\,\nseveral Wagon Wheel Rim plant holders\,\ncollectible signs of all kinds\,\nCoca-Cola signs\,\noil company signs\,\ngas station signs\, 5 gallon embossed oil cans branded with Associated oil company\, Standard Oil company\, Shell Oil company\, and Union oil company\,\ncollection of 5 gallon glass water bottles several with company embossing\,\nlarge and small rustic potting tables\,\nHuge lot of vintage wooden fruit boxes\,\n50 plus quality box lots of quality collectibles many of them in the wooden picking boxes\,\ncollection of antique oak wall and table top crank phones\,\nrustic Rooster and Cardinal metal weathervanes\,\nvintage Barn wooden parts cabinet\,\nvintage wooden rolling sectioned store display table\,\nvintage cast aluminum kids riding playground toys\,\nrustic Farm industrial and garden items of all kinds\nand much much more.\n#comebidwithus\nDon’t miss this great auction!!
URL:https://fresnoauctioncompany.com/event/4-29-23/
LOCATION:CA
CATEGORIES:Estate Auction
ATTACH;FMTTYPE=image/webp:https://fresnoauctioncompany.com/wp-content/uploads/2023/04/119980749_1409074562617905_590538008489220552_n.webp
END:VEVENT
END:VCALENDAR