BEGIN:VCALENDAR
VERSION:2.0
PRODID:-//Fresno Estates &amp; Auction Company - ECPv6.15.18//NONSGML v1.0//EN
CALSCALE:GREGORIAN
METHOD:PUBLISH
X-WR-CALNAME:Fresno Estates &amp; Auction Company
X-ORIGINAL-URL:https://fresnoauctioncompany.com
X-WR-CALDESC:Events for Fresno Estates &amp; Auction Company
REFRESH-INTERVAL;VALUE=DURATION:PT1H
X-Robots-Tag:noindex
X-PUBLISHED-TTL:PT1H
BEGIN:VTIMEZONE
TZID:America/Los_Angeles
BEGIN:DAYLIGHT
TZOFFSETFROM:-0800
TZOFFSETTO:-0700
TZNAME:PDT
DTSTART:20220313T100000
END:DAYLIGHT
BEGIN:STANDARD
TZOFFSETFROM:-0700
TZOFFSETTO:-0800
TZNAME:PST
DTSTART:20221106T090000
END:STANDARD
BEGIN:DAYLIGHT
TZOFFSETFROM:-0800
TZOFFSETTO:-0700
TZNAME:PDT
DTSTART:20230312T100000
END:DAYLIGHT
BEGIN:STANDARD
TZOFFSETFROM:-0700
TZOFFSETTO:-0800
TZNAME:PST
DTSTART:20231105T090000
END:STANDARD
BEGIN:DAYLIGHT
TZOFFSETFROM:-0800
TZOFFSETTO:-0700
TZNAME:PDT
DTSTART:20240310T100000
END:DAYLIGHT
BEGIN:STANDARD
TZOFFSETFROM:-0700
TZOFFSETTO:-0800
TZNAME:PST
DTSTART:20241103T090000
END:STANDARD
END:VTIMEZONE
BEGIN:VEVENT
DTSTART;TZID=America/Los_Angeles:20230421T090000
DTEND;TZID=America/Los_Angeles:20230421T150000
DTSTAMP:20260421T040436
CREATED:20230418T192806Z
LAST-MODIFIED:20230421T020252Z
UID:5552-1682067600-1682089200@fresnoauctioncompany.com
SUMMARY:4-21 & 23\, 2023 - Pop-up Selma Warehouse Estate SALE 9am with Antiques\, Collectibles & Quality Contemporary Furniture
DESCRIPTION:ESTATE SALE – NOT an auction\n\n2057 E. Front Street\, Selma CA 93662\nDoors open at 9am\nGo East of 99 off Floral Ave to Front Street\, turn South on Front and watch for signs! \nThis SALE JUST POPPED UP! We are feverishly UNPACKING and Setting up!\nAfter MORE information & pictures populate the website\, a newsletter with details will be sent out and posted on Facebook Marketplace. Please Stay TUNED! \nAnd as always\, feel free to call or text Steve at 559-930-7218 or Steven at 559-4162 with questions
URL:https://fresnoauctioncompany.com/event/4-21-23-2023/
LOCATION:Selma Pop-up Map\, 2057 S. Front St.\, Selma\, 93662\, United States
CATEGORIES:Estate Tag Sale
ATTACH;FMTTYPE=image/jpeg:https://fresnoauctioncompany.com/wp-content/uploads/2023/04/popupshopSQ.jpg
END:VEVENT
END:VCALENDAR