BEGIN:VCALENDAR
VERSION:2.0
PRODID:-//Fresno Estates &amp; Auction Company - ECPv6.15.18//NONSGML v1.0//EN
CALSCALE:GREGORIAN
METHOD:PUBLISH
X-WR-CALNAME:Fresno Estates &amp; Auction Company
X-ORIGINAL-URL:https://fresnoauctioncompany.com
X-WR-CALDESC:Events for Fresno Estates &amp; Auction Company
REFRESH-INTERVAL;VALUE=DURATION:PT1H
X-Robots-Tag:noindex
X-PUBLISHED-TTL:PT1H
BEGIN:VTIMEZONE
TZID:America/Los_Angeles
BEGIN:DAYLIGHT
TZOFFSETFROM:-0800
TZOFFSETTO:-0700
TZNAME:PDT
DTSTART:20220313T100000
END:DAYLIGHT
BEGIN:STANDARD
TZOFFSETFROM:-0700
TZOFFSETTO:-0800
TZNAME:PST
DTSTART:20221106T090000
END:STANDARD
BEGIN:DAYLIGHT
TZOFFSETFROM:-0800
TZOFFSETTO:-0700
TZNAME:PDT
DTSTART:20230312T100000
END:DAYLIGHT
BEGIN:STANDARD
TZOFFSETFROM:-0700
TZOFFSETTO:-0800
TZNAME:PST
DTSTART:20231105T090000
END:STANDARD
BEGIN:DAYLIGHT
TZOFFSETFROM:-0800
TZOFFSETTO:-0700
TZNAME:PDT
DTSTART:20240310T100000
END:DAYLIGHT
BEGIN:STANDARD
TZOFFSETFROM:-0700
TZOFFSETTO:-0800
TZNAME:PST
DTSTART:20241103T090000
END:STANDARD
END:VTIMEZONE
BEGIN:VEVENT
DTSTART;TZID=America/Los_Angeles:20230422T080000
DTEND;TZID=America/Los_Angeles:20230422T170000
DTSTAMP:20260421T040435
CREATED:20230329T145951Z
LAST-MODIFIED:20230421T015635Z
UID:4589-1682150400-1682182800@fresnoauctioncompany.com
SUMMARY:4-22-23 Antiques and Collectible Auction at Fernwood Nursery 10am
DESCRIPTION:12090 Fernwood Dr\, Madera\, CA 93636\nSaturday\, April 22\,2023 at 10 am\nFRI. PREVIEW 8:00-4:30pm & SAT. 8am-10am \nHuge Antique and Collectibles Auction being held at Fernwood Gardens Nursery just off Avenue 12 in the Madera Ranchos. \nPlease click here for the Google picture link for sneak peek preview pictures. \nItems include; \nHallmark 20 ft x 8 ft enclosed toy hauler trailer\, Kohler and Campbell Ivory player grand piano\, Restored Antique Visible Gas Pump with Polly Parrot branding\, Polly Gas porcelain sign\, vintage porcelain oilfield signs\, raisin and fruit packer lithograph signs\, rare US Navy recruiting sign\, Mail Pouch tobacco thermometer\, Golden Sons feed sign\, vintage porcelain signs including Blackstone cigar\, Wayne poultry\, and Kellogg’s fertilizer\, various other advertising signs\, end of the track Railroad sign\, large restored Enterprise cast iron coffee grinder\, rare Gamewell Company cast iron fire boxes\, several early antique cast iron cauldrons\, rare super fancy 1880s Oak and cast iron Dental chair\, red glass Railroad and barn lanterns\, rare antique auction yoke\, lots of good quality matched sets of California license plates\, vintage powder coated iron patio sets\, several quality fancy cement patio tables and benches\, fancy cement and wood yard benches\, lots of trees in 24-in boxes including; redwood\, Chinese elm\, unusual cactus\, red bud\, and more. Antique blacksmith anvils Hay-Budden Brooklyn\, New York and Fisher& Norris\, Wayne Model 515 ten gallon visible gas pump\, Large antique fancy cash register\, Ringling Brothers and other circus posters\, lots of 1940s and 50s powder coated Motel porch chairs\, vintage water cans\, antique yard art horse drawn planter\, several unusual cast iron fire hydrants\, vintage Yamaha acoustic guitars\, vintage violin\, Coca-Cola bottles and collectibles\, goose and duck decoys\, Zappy Electric scooters\, antique sets of sleigh bells\, life-size Halloween witch\, life size Freddy Krueger\, Asian cement statues\, large metal yard sculpture giraffes\, antique oak drafting table\, telescope\, antique wood snowshoes and poles\, Coca-Cola radio\, vintage Coca-Cola tin litho flange sign\, rare antique ringer washer with dual Square wash tubs\, vintage electric ringer washer\, collection of minerals and crystals\, lots of diecast cars in original boxes\, Hot Wheels in original packaging\, antique fans\, Alice Cooper tour jacket\, depression glass plates\, vintage water cans\, antique drinking fountain\, old theater seats\, large wooden Barn hay fork\, antique wagon wheels\, antique scales\, and much much more don’t miss this great sale!! \nFor more information\, call Steve at 559-930-7218 or Steven Antonio at 559-355-4162
URL:https://fresnoauctioncompany.com/event/4-22-23/
LOCATION:4-22-23  Fernwood Auction\, 12090 Fernwood Dr\, Madera\, CA\, 93636\, United States
CATEGORIES:Estate Auction
ATTACH;FMTTYPE=image/jpeg:https://fresnoauctioncompany.com/wp-content/uploads/2023/03/Screenshot_20230329_072227_Photos-1-e1681790800987.jpg
END:VEVENT
END:VCALENDAR