BEGIN:VCALENDAR
VERSION:2.0
PRODID:-//Fresno Estates &amp; Auction Company - ECPv6.15.18//NONSGML v1.0//EN
CALSCALE:GREGORIAN
METHOD:PUBLISH
X-ORIGINAL-URL:https://fresnoauctioncompany.com
X-WR-CALDESC:Events for Fresno Estates &amp; Auction Company
REFRESH-INTERVAL;VALUE=DURATION:PT1H
X-Robots-Tag:noindex
X-PUBLISHED-TTL:PT1H
BEGIN:VTIMEZONE
TZID:America/Los_Angeles
BEGIN:DAYLIGHT
TZOFFSETFROM:-0800
TZOFFSETTO:-0700
TZNAME:PDT
DTSTART:20220313T100000
END:DAYLIGHT
BEGIN:STANDARD
TZOFFSETFROM:-0700
TZOFFSETTO:-0800
TZNAME:PST
DTSTART:20221106T090000
END:STANDARD
BEGIN:DAYLIGHT
TZOFFSETFROM:-0800
TZOFFSETTO:-0700
TZNAME:PDT
DTSTART:20230312T100000
END:DAYLIGHT
BEGIN:STANDARD
TZOFFSETFROM:-0700
TZOFFSETTO:-0800
TZNAME:PST
DTSTART:20231105T090000
END:STANDARD
BEGIN:DAYLIGHT
TZOFFSETFROM:-0800
TZOFFSETTO:-0700
TZNAME:PDT
DTSTART:20240310T100000
END:DAYLIGHT
BEGIN:STANDARD
TZOFFSETFROM:-0700
TZOFFSETTO:-0800
TZNAME:PST
DTSTART:20241103T090000
END:STANDARD
END:VTIMEZONE
BEGIN:VEVENT
DTSTART;TZID=America/Los_Angeles:20230415T080000
DTEND;TZID=America/Los_Angeles:20230415T170000
DTSTAMP:20260421T084250
CREATED:20230404T163505Z
LAST-MODIFIED:20260321T013948Z
UID:4598-1681545600-1681578000@fresnoauctioncompany.com
SUMMARY:4-15-23 Estate Auction with 33' Ford Pick Up\, Harleys\, Project Cars\, Packed Tools boxes\, Guns\, & MORE
DESCRIPTION:6055 N. Greenwood Ave. Clovis CA 93619\nSaturday\, April 15\, 2023 at 10am Preview 8-10am \nPlease Enjoy the photo preview.\nAdditional photos and description will be added closer to auction day. \n*Notice – Firearms will not be onsite until day of auction.\nFor More information: Call Steve at 559-930-7218 or Steven at 559-355-4162 \nClick here for scrollable and expandable photos! \n\nLiquidation Auction of quality items including; \nRestored 1933 Ford pickup Street Rod\,\n2006 Chevy 2500 pick up Duramax diesel engine and Allison Transmission\,\nheavy duty tandem axle 18 ft flatbed car trailer with ramps\,\n1974 Chevy Nova muscle car\,\n1928 Model T\,\nHarley-Davidson motorcycle\,\n2010 Polaris Victory motorcycle\,\n1956 Citroen\,\n1941 Chevy coupe Parts vehicle\,\n1947 Ford Coupe parts vehicle\,\nMustang 2 for running gear parts vehicle\,\ntwo Dodge Dakota pickups sold as one lot for parts\,\n1978 Ford F150 pickup\,\nLlama portable squeeze chute for grooming your Llama!\nfirearms including;Smith & Wesson MP40 Shield 40 caliber semi-automatic\,\nRuger Blackhawk revolver in .357\,\nU.S.Springfield model 1886 trapdoor military rifle\,\nWorld War II Japanese Arisaka bolt action with cleaning rod and full Mum\,\nSears model 200 12 gauge pump action shotgun\,\nHarrington and Richardson Pardner 20 gauge single shot shotgun\,\nMarlin Glenfield Model 60 semi-automatic .22\,\nMarlin Glenfield Model 60 semi-automatic .22 with Glenfield scope\,\nNew In Box Browning Model BL .22 lever action rifle in .22\,\nvintage pre 64 Winchester model 94 lever action .32 Caliber\,\nRemington model 700 bolt action rifle in .22-250 with Redfield 6×18 scope\,\nIthaca Model M49 lever action rifle in.22 magnum\,\nRemington Model 870 Wingmaster 12 gauge pump action shotgun\,\nvintage Stevens single shot 12 gauge shotgun\, vintage Remington model 550-1 22 semi-automatic rifle\,\nLots of great tools\,\nMonarch four post hydraulic vehicle lift\,\nMac side tool boxes\,\nNapa and Craftsman rollaway tool boxes\,\nCarolina 30 ton press\,\nHobart Iron Man model 210 Mig welder\,\nMiller Sidekick Mig welder\,\nHobart stick welder\,\ncherry picker\,\nCraftsman drill press\,\nseveral engines and lots of engine parts\,\nsmall block Chevy engines\,\nflathead Ford\,\nengine parts of all kinds\, including Super Rare Edelbrock small block Chevy Aluminum Six Deuce Intake Manifold with Stromberg 97 carburetors\,\nlots of other vintage car parts\,\nlawn mowers and rototillers\,\nriding lawn mower\,\nlike new Gearmore tandem disc with stubble blades\,\nquality antique and solid wood furniture\, and much much more.\nSomething for everyone! Don’t miss this Auction!! \n\n		\n		\n			\n				\n			\n			\n				\n			\n			\n				\n			\n			\n				\n			\n			\n				\n			\n			\n				\n			\n			\n				\n			\n			\n				\n			\n			\n				\n			\n			\n				\n			\n			\n				\n			\n			\n				\n			\n			\n				\n			\n			\n				\n			\n			\n				\n			\n			\n				\n			\n			\n				\n			\n			\n				\n			\n			\n				\n			\n			\n				\n			\n			\n				\n			\n			\n				\n			\n			\n				\n			\n			\n				\n			\n			\n				\n			\n			\n				\n			\n			\n				\n			\n			\n				\n			\n			\n				\n			\n			\n				\n			\n			\n				\n			\n			\n				\n			\n			\n				\n			\n			\n				\n			\n			\n				\n			\n			\n				\n			\n			\n				\n			\n			\n				\n			\n			\n				\n			\n			\n				\n			\n			\n				\n			\n			\n				\n			\n			\n				\n			\n			\n				\n			\n			\n				\n			\n			\n				\n			\n			\n				\n			\n			\n				\n			\n			\n				\n			\n			\n				\n			\n			\n				\n			\n			\n				\n			\n			\n				\n			\n			\n				\n			\n			\n				\n			\n			\n				\n			\n			\n				\n			\n			\n				\n			\n			\n				\n			\n			\n				\n			\n			\n				\n			\n			\n				\n			\n			\n				\n			\n			\n				\n			\n			\n				\n			\n			\n				\n			\n			\n				\n			\n			\n				\n			\n			\n				\n			\n			\n				\n			\n			\n				\n			\n			\n				\n			\n			\n				\n			\n			\n				\n			\n			\n				\n			\n			\n				\n			\n			\n				\n			\n			\n				\n			\n			\n				\n			\n			\n				\n			\n			\n				\n			\n			\n				\n			\n			\n				\n			\n			\n				\n			\n			\n				\n			\n			\n				\n			\n			\n				\n			\n			\n				\n			\n			\n				\n			\n			\n				\n			\n			\n				\n			\n			\n				\n			\n			\n				\n			\n			\n				\n			\n			\n				\n			\n			\n				\n			\n			\n				\n			\n			\n				\n			\n			\n				\n			\n			\n				\n			\n			\n				\n			\n			\n				\n			\n			\n				\n			\n			\n				\n			\n			\n				\n			\n			\n				\n			\n			\n				\n			\n			\n				\n			\n			\n				\n			\n			\n				\n			\n			\n				\n			\n			\n				\n			\n			\n				\n			\n			\n				\n			\n			\n				\n			\n			\n				\n			\n			\n				\n			\n			\n				\n			\n			\n				\n			\n			\n				\n			\n			\n				\n			\n			\n				\n			\n			\n				\n			\n			\n				\n			\n			\n				\n			\n			\n				\n			\n			\n				\n			\n			\n				\n			\n			\n				\n			\n			\n				\n			\n			\n				\n			\n			\n				\n			\n			\n				\n			\n			\n				\n			\n			\n				\n			\n			\n				\n			\n			\n				\n			\n			\n				\n			\n			\n				\n			\n			\n				\n			\n			\n				\n			\n			\n				\n			\n			\n				\n			\n			\n				\n			\n			\n				\n			\n			\n				\n			\n			\n				\n			\n			\n				\n			\n			\n				\n			\n			\n				\n			\n			\n				\n			\n			\n				\n			\n			\n				\n			\n			\n				\n			\n			\n				\n			\n			\n				\n			\n			\n				\n			\n			\n				\n			\n			\n				\n			\n			\n				\n			\n			\n				\n			\n			\n				\n			\n			\n				\n			\n			\n				\n			\n			\n				\n			\n			\n				\n			\n			\n				\n			\n			\n				\n			\n			\n				\n			\n			\n				\n			\n			\n				\n			\n			\n				\n			\n			\n				\n			\n			\n				\n			\n			\n				\n			\n			\n				\n			\n			\n				\n			\n			\n				\n			\n			\n				\n			\n			\n				\n			\n			\n				\n			\n			\n				\n			\n			\n				\n			\n			\n				\n			\n			\n				\n			\n			\n				\n			\n			\n				\n			\n			\n				\n			\n			\n				\n			\n			\n				\n			\n			\n				\n			\n			\n				\n			\n			\n				\n			\n			\n				\n			\n			\n				\n			\n			\n				\n			\n			\n				\n			\n			\n				\n			\n			\n				\n			\n			\n				\n			\n			\n				\n			\n			\n				\n			\n			\n				\n			\n			\n				\n			\n			\n				\n			\n			\n				\n			\n			\n				\n			\n			\n				\n			\n			\n				\n			\n			\n				\n			\n			\n				\n			\n			\n				\n			\n			\n				\n			\n			\n				\n			\n			\n				\n			\n			\n				\n			\n			\n				\n			\n			\n				\n			\n			\n				\n			\n			\n				\n			\n			\n				\n			\n			\n				\n			\n			\n				\n			\n			\n				\n			\n			\n				\n			\n			\n				\n			\n			\n				\n			\n			\n				\n			\n			\n				\n			\n			\n				\n			\n			\n				\n			\n			\n				\n			\n			\n				\n			\n			\n				\n			\n			\n				\n			\n			\n				\n			\n			\n				\n			\n			\n				\n			\n			\n				\n			\n			\n				\n			\n			\n				\n			\n			\n				\n			\n			\n				\n			\n			\n				\n			\n			\n				\n			\n			\n				\n			\n			\n				\n			\n			\n				\n			\n			\n				\n			\n			\n				\n			\n			\n				\n			\n			\n				\n			\n			\n				\n			\n			\n				\n			\n			\n				\n			\n			\n				\n			\n			\n				\n			\n			\n				\n			\n			\n				\n			\n			\n				\n			\n			\n				\n			\n			\n				\n			\n			\n				\n			\n			\n				\n			\n			\n				\n			\n			\n				\n			\n			\n				\n			\n			\n				\n			\n			\n				\n			\n			\n				\n			\n			\n				\n			\n			\n				\n			\n			\n				\n			\n			\n				\n			\n			\n				\n			\n			\n				\n			\n			\n				\n			\n			\n				\n			\n			\n				\n			\n			\n				\n			\n			\n				\n			\n			\n				\n			\n			\n				\n			\n			\n				\n			\n			\n				\n			\n			\n				\n			\n			\n				\n			\n			\n				\n			\n			\n				\n			\n			\n				\n			\n			\n				\n			\n			\n				\n			\n			\n				\n			\n			\n				\n			\n			\n				\n			\n			\n				\n			\n			\n				\n			\n			\n				\n			\n			\n				\n			\n			\n				\n			\n		\n\n 
URL:https://fresnoauctioncompany.com/event/4-15-23/
LOCATION:4-15-23\, 6055 N. Greenwood Ave\, Clovis\, CA\, 93619\, United States
CATEGORIES:Estate Auction
ATTACH;FMTTYPE=image/jpeg:https://fresnoauctioncompany.com/wp-content/uploads/2023/04/IMG_6073-e1680627744219.jpg
END:VEVENT
END:VCALENDAR