BEGIN:VCALENDAR
VERSION:2.0
PRODID:-//Fresno Estates &amp; Auction Company - ECPv6.15.18//NONSGML v1.0//EN
CALSCALE:GREGORIAN
METHOD:PUBLISH
X-ORIGINAL-URL:https://fresnoauctioncompany.com
X-WR-CALDESC:Events for Fresno Estates &amp; Auction Company
REFRESH-INTERVAL;VALUE=DURATION:PT1H
X-Robots-Tag:noindex
X-PUBLISHED-TTL:PT1H
BEGIN:VTIMEZONE
TZID:America/Los_Angeles
BEGIN:DAYLIGHT
TZOFFSETFROM:-0800
TZOFFSETTO:-0700
TZNAME:PDT
DTSTART:20220313T100000
END:DAYLIGHT
BEGIN:STANDARD
TZOFFSETFROM:-0700
TZOFFSETTO:-0800
TZNAME:PST
DTSTART:20221106T090000
END:STANDARD
BEGIN:DAYLIGHT
TZOFFSETFROM:-0800
TZOFFSETTO:-0700
TZNAME:PDT
DTSTART:20230312T100000
END:DAYLIGHT
BEGIN:STANDARD
TZOFFSETFROM:-0700
TZOFFSETTO:-0800
TZNAME:PST
DTSTART:20231105T090000
END:STANDARD
BEGIN:DAYLIGHT
TZOFFSETFROM:-0800
TZOFFSETTO:-0700
TZNAME:PDT
DTSTART:20240310T100000
END:DAYLIGHT
BEGIN:STANDARD
TZOFFSETFROM:-0700
TZOFFSETTO:-0800
TZNAME:PST
DTSTART:20241103T090000
END:STANDARD
END:VTIMEZONE
BEGIN:VEVENT
DTSTART;TZID=America/Los_Angeles:20230318T080000
DTEND;TZID=America/Los_Angeles:20230318T170000
DTSTAMP:20260421T041711
CREATED:20230315T005748Z
LAST-MODIFIED:20230315T035718Z
UID:2961-1679126400-1679158800@fresnoauctioncompany.com
SUMMARY:3-18-23 Clovis Estate Auction 10am with Corvette\, Equinox\, firearms\, Vintage\, LPs -very Eclectic Selection.
DESCRIPTION:2806 Keats Avenue Clovis 93611 – 10am \nNear Shaw and Locan Aves.- Clovis\nSaturday\, March 18\, 2023 at 10am – Preview 8am to 10am\nAuction begins at 10am\nVehicles sell at 12pm \nCLICK HERE for Google photo Link \nThis Varied Estate Auction Includes:\n2011 Chevrolet Equinox LT 58k miles\n1991 Chevrolet Corvette 90k miles\nRemington Model 788 bolt action in .308 Winchester\,\nRuger Security-Six .357 Magnum\,\nTaurus revolver .38 Special\,\nRaven Model MP-25 .25 Auto\,\nantique Smith & Wesson top brake revolver .38 caliber\,\nSamsung Crystal UHD 82” TV new in box\,\nVizio 60” TV\nGreenworks elite power washer\nKenmore Elite full size Standup Freezer\nCuisinart kitchen appliances\nVintage magazines\nBrand new in package Cal King bed and foundation\,\nVintage patches\nNintendo trading cards\nRolex watch\,\nMont Blanc pens and Cross pens and pencils\,\nMount Blanc fountain pens\,\nVintage 35mm Pentax Cameras and Asahi lenses\,\nLaptops\nVintage Comics\,\nvintage Rock and Soul albums\,\nlots of tools\,\nshelving\,\nyard art\,\nlots of landscape bricks and pavers\,\nlarge rare Mariposite mineral samples\,\nCraftsman drills\,\norbital jigsaw\,\nsockets\,\ncombination wrenches\,\nemergency battery systems\,\ndive gear\,\nspeaker systems\,\nPioneer car stereo systems\,\nTire chains\,\nHammers and nails\,\nWarrior reciprocating saw\,\nextension cords\,\nvintage water pump\,\nmatching Hawaiian license plates\,\nKingsford Charcoal\,\nhedge trimmers\,\npipe wrenches\,\ncircular saw\,\nyellow and black organizer bins\,\nmultiple bags of mulch\,\nlarge cedar posts\,\nweight set\,\nPyrex measuring cups\,\ncannister sets\,\nsoda stream machine\,\n8 piece high top dining room set\,\nvintage Disney books and VHS tapes\,\nhome decor\,\nlaser disks and player\,\nsigned celebrity portraits\,\ncomputer accessories and complete desktop setups\,\nlarge file cabinets\,\nHP printers\,\nvintage watches\,\nSamsung Galaxy A13 phone\,\nNook tablet\,\nHP TouchPad\,\nHP laptop\,\nLenovo laptop\,\nvintage records cassettes CD’s and laser discs\,\nluggage sets\,\nVintage hats and tees\,\nVintage Pez dispensers\nbaseball cards and much much more!\nDon’t forget to #comebidwithus
URL:https://fresnoauctioncompany.com/event/3-18-23/
LOCATION:3-18-23 Clovis Estate Auction\, 2806 Keats Avenue\, Clovis\, CA\, 93611\, United States
CATEGORIES:Estate Auction
ATTACH;FMTTYPE=image/jpeg:https://fresnoauctioncompany.com/wp-content/uploads/2023/03/IMG_5524-scaled-e1678852604549.jpg
END:VEVENT
END:VCALENDAR