BEGIN:VCALENDAR
VERSION:2.0
PRODID:-//Fresno Estates &amp; Auction Company - ECPv6.15.18//NONSGML v1.0//EN
CALSCALE:GREGORIAN
METHOD:PUBLISH
X-ORIGINAL-URL:https://fresnoauctioncompany.com
X-WR-CALDESC:Events for Fresno Estates &amp; Auction Company
REFRESH-INTERVAL;VALUE=DURATION:PT1H
X-Robots-Tag:noindex
X-PUBLISHED-TTL:PT1H
BEGIN:VTIMEZONE
TZID:America/Los_Angeles
BEGIN:DAYLIGHT
TZOFFSETFROM:-0800
TZOFFSETTO:-0700
TZNAME:PDT
DTSTART:20220313T100000
END:DAYLIGHT
BEGIN:STANDARD
TZOFFSETFROM:-0700
TZOFFSETTO:-0800
TZNAME:PST
DTSTART:20221106T090000
END:STANDARD
BEGIN:DAYLIGHT
TZOFFSETFROM:-0800
TZOFFSETTO:-0700
TZNAME:PDT
DTSTART:20230312T100000
END:DAYLIGHT
BEGIN:STANDARD
TZOFFSETFROM:-0700
TZOFFSETTO:-0800
TZNAME:PST
DTSTART:20231105T090000
END:STANDARD
BEGIN:DAYLIGHT
TZOFFSETFROM:-0800
TZOFFSETTO:-0700
TZNAME:PDT
DTSTART:20240310T100000
END:DAYLIGHT
BEGIN:STANDARD
TZOFFSETFROM:-0700
TZOFFSETTO:-0800
TZNAME:PST
DTSTART:20241103T090000
END:STANDARD
END:VTIMEZONE
BEGIN:VEVENT
DTSTART;TZID=America/Los_Angeles:20230304T090000
DTEND;TZID=America/Los_Angeles:20230304T160000
DTSTAMP:20260421T041716
CREATED:20230301T065139Z
LAST-MODIFIED:20230301T223835Z
UID:2358-1677920400-1677945600@fresnoauctioncompany.com
SUMMARY:March 4 & 5 - Clovis Estate Sale Part 2 with furniture\, collectibles\, antiques & more
DESCRIPTION:Address: 3192 Scott Ave. Clovis CA 93619 Doors OPEN 9am-4pm Daily\nEast of Temperance and South of Barstow Ave \nThis Estate Sale features: \nCLICK HERE for Google preview photos \nExtensive Collectible of porcelain figurines by Florence Ceramic company\, Shirley\, Fitz and Floyd and more!\nCranberry glass\nMilk glass\nAntique Treadle sewing machine\nBeautiful Quality furnishings including Various\, mahogany Serpentine front Buffets\, bow front Curio Cabinets\, Fancy French Hutch with ormolu and entry Cabinet with beveled mirror by Michael Amari for the Jane Seymour collection\nSofa\nCarved wood trimmed upholstered chairs\,\nAntique Ladder Back rake seat rocker\nDressers\nLamps\nLinens\nDecorator pillows\nWomen’s clothing\nPurses  & accessories\nWomen’s Shoes\nArtwork\nKitchenware\nsmall appliances\nPantry items\nTV\nVintage Hosier Cabinet\nQuality Coffee brewing systems\nAntiques  and collectibles\nTools\nGarage Items\nShelving\nVintage lighting fixtures\nPlanters\nPlants\nAngle Bird Bath\nPatio Furniture\nAntique Hotpoint electric porcelain stove\nAntique washing machine\nAntique cast iron bed frame\nFancy metal yard art\nPlants\nBicycles and more \nCall Steve 559-930-7218 or Steven A at 559-355-4162\nfor more details \nCall Steve 559-930-7218 or Steven A at 559-355-4162for more details
URL:https://fresnoauctioncompany.com/event/3-4-23/
LOCATION:CA
CATEGORIES:Estate Tag Sale
ATTACH;FMTTYPE=image/jpeg:https://fresnoauctioncompany.com/wp-content/uploads/2023/02/20230228_175227.jpg
END:VEVENT
END:VCALENDAR