BEGIN:VCALENDAR
VERSION:2.0
PRODID:-//Fresno Estates &amp; Auction Company - ECPv6.15.18//NONSGML v1.0//EN
CALSCALE:GREGORIAN
METHOD:PUBLISH
X-ORIGINAL-URL:https://fresnoauctioncompany.com
X-WR-CALDESC:Events for Fresno Estates &amp; Auction Company
REFRESH-INTERVAL;VALUE=DURATION:PT1H
X-Robots-Tag:noindex
X-PUBLISHED-TTL:PT1H
BEGIN:VTIMEZONE
TZID:America/Los_Angeles
BEGIN:DAYLIGHT
TZOFFSETFROM:-0800
TZOFFSETTO:-0700
TZNAME:PDT
DTSTART:20220313T100000
END:DAYLIGHT
BEGIN:STANDARD
TZOFFSETFROM:-0700
TZOFFSETTO:-0800
TZNAME:PST
DTSTART:20221106T090000
END:STANDARD
BEGIN:DAYLIGHT
TZOFFSETFROM:-0800
TZOFFSETTO:-0700
TZNAME:PDT
DTSTART:20230312T100000
END:DAYLIGHT
BEGIN:STANDARD
TZOFFSETFROM:-0700
TZOFFSETTO:-0800
TZNAME:PST
DTSTART:20231105T090000
END:STANDARD
BEGIN:DAYLIGHT
TZOFFSETFROM:-0800
TZOFFSETTO:-0700
TZNAME:PDT
DTSTART:20240310T100000
END:DAYLIGHT
BEGIN:STANDARD
TZOFFSETFROM:-0700
TZOFFSETTO:-0800
TZNAME:PST
DTSTART:20241103T090000
END:STANDARD
END:VTIMEZONE
BEGIN:VEVENT
DTSTART;TZID=America/Los_Angeles:20230225T080000
DTEND;TZID=America/Los_Angeles:20230225T170000
DTSTAMP:20260421T122202
CREATED:20230124T031048Z
LAST-MODIFIED:20230222T181500Z
UID:781-1677312000-1677344400@fresnoauctioncompany.com
SUMMARY:2-25 & 26-23 -Two Day Clovis Estate Sale (NOT an AUCTION) 9AM filled with beautiful furnishings\, quality collectibles and 100's of items
DESCRIPTION:Address: 3192 Scott Ave. Clovis CA 93619 Doors OPEN 9am-4pm Daily\nEast of Temperance and South of Barstow Ave \nThis Estate Sale features: CLICK HERE for Google VIDEO TOUR Preview and more Photos \nExtensive Collectible of porcelain figurines by Florence Ceramic company\, Shirley\, Fitz and Floyd and more!\nBeautiful Quality furnishings including Various\, Buffets\, Curio Cabinets\, Hutches and China Cabinets\nSofa\, Loveseats\, Decorator chairs\, & upholstered ottoman\nVarious sized area rugs\nDining room table and 6 chairs\,\nWhite wood kitchen table with 4 chairs\n3 bedrooms sets with matching nightstands and dressers\, Lamps\nLinens\nOrnate Gold Dressing mirror\nDecorator pillows\nWomen’s size 20 clothing\nDesigner purses\,\nScarfs\, belts\, & accessories\nWomen’s Shoes\nDecorator clocks\nArtwork\nWall shelves and cabinets\nOffice corner Desk & office chair\nOffice supplies\nPrinter\nRooster figurines in various sizes\,\nKitchenware\nGE profile Refrig. with bottom freezer and ice/water in door\nSmaller GE profile Refrig. with bottom freezer and NO ice/water in door\nsmall appliances\nFlatware\nPantry and bar supplies\nTV’s and sound bar\nVintage Hosier Cabinet\nVarious Quality Coffee brewing systems\nAntiques and collectibles\nHand and power tools\nGarage Items\nChristmas lights and projectors\nVintage lighting fixtures\nStepping Stones\nPlanters\nCement Giraffe\nAngle Bird Bath\nPatio Furniture\nPlants\nBicycles and more to be updated as we finish set up 🙂 \nCall Steve 559-930-7218 or Steven A at 559-355-4162\nfor more details
URL:https://fresnoauctioncompany.com/event/2-25-23/
LOCATION:CA
CATEGORIES:Estate Tag Sale
ATTACH;FMTTYPE=image/jpeg:https://fresnoauctioncompany.com/wp-content/uploads/2023/01/20230221_123641-scaled.jpg
END:VEVENT
END:VCALENDAR