BEGIN:VCALENDAR
VERSION:2.0
PRODID:-//Fresno Estates &amp; Auction Company - ECPv6.15.18//NONSGML v1.0//EN
CALSCALE:GREGORIAN
METHOD:PUBLISH
X-ORIGINAL-URL:https://fresnoauctioncompany.com
X-WR-CALDESC:Events for Fresno Estates &amp; Auction Company
REFRESH-INTERVAL;VALUE=DURATION:PT1H
X-Robots-Tag:noindex
X-PUBLISHED-TTL:PT1H
BEGIN:VTIMEZONE
TZID:America/Los_Angeles
BEGIN:DAYLIGHT
TZOFFSETFROM:-0800
TZOFFSETTO:-0700
TZNAME:PDT
DTSTART:20220313T100000
END:DAYLIGHT
BEGIN:STANDARD
TZOFFSETFROM:-0700
TZOFFSETTO:-0800
TZNAME:PST
DTSTART:20221106T090000
END:STANDARD
BEGIN:DAYLIGHT
TZOFFSETFROM:-0800
TZOFFSETTO:-0700
TZNAME:PDT
DTSTART:20230312T100000
END:DAYLIGHT
BEGIN:STANDARD
TZOFFSETFROM:-0700
TZOFFSETTO:-0800
TZNAME:PST
DTSTART:20231105T090000
END:STANDARD
BEGIN:DAYLIGHT
TZOFFSETFROM:-0800
TZOFFSETTO:-0700
TZNAME:PDT
DTSTART:20240310T100000
END:DAYLIGHT
BEGIN:STANDARD
TZOFFSETFROM:-0700
TZOFFSETTO:-0800
TZNAME:PST
DTSTART:20241103T090000
END:STANDARD
END:VTIMEZONE
BEGIN:VEVENT
DTSTART;TZID=America/Los_Angeles:20230218T080000
DTEND;TZID=America/Los_Angeles:20230218T170000
DTSTAMP:20260421T122201
CREATED:20230124T030401Z
LAST-MODIFIED:20230215T224619Z
UID:778-1676707200-1676739600@fresnoauctioncompany.com
SUMMARY:2-18-23 Pittman Hill Road Estate Auction! Tractors\, Vintage Cars\, Tools and so MUCH more!10AM
DESCRIPTION:Saturday\, Feb. 18\, 2023 at 10am – Preview begins at 8am.\n26491 Pittman Hill road\, Clovis\, CA 93619\nClick the orange tractor Photo for Detailed Item list below:) \nThe roads have finally dried and we can auction this Filled Property!\nJoin us as we auction:\nClick here for Google photo link and Check back as we upload MORE Photos by tomorrow \nFeatured items:\nClassic Ford 9N tractor in great working condition\,\nGearmore thre3-point PTO broadcast spreader\,\ntwo 3-point cultivators\,\n3-point Furrow maker\,\nKioti KL 140 tractor with front end loader\,\nvintage John Deere tractor in restorable conditi999on\,\n1969 Ford Fairlane 500 fastback\,\nvintage Ford bronco\,\nEZGO golf cart \,\nTerry tandem axle 1972 International flatbed truck\,\ntravel trailer\,\nFarmall 350 diesel tractor\,\n1960 box trailer\,\n1982 Dodge pickup\,\n1969 Volkswagen beetle\,\n1982 Volkswagen pickup\,\n1981 Volkswagen pickup\,\n’60s Chevy step van\,\n73 Datsun pickup\,\n78 Datsun pickup\,\nFord Courier pickup\,\nsome of the vehicles will be for parts only.\ngas rototiller\,\nHobart generator welder\,\nlarge stainless Kirkland bbq\,\nseveral riding lawn mowers\,\nvintage small case tractor and rototiller attachment\,\nRothenberger Collins classic 22 pipe threader with trailer and tooling\,\npower and hand tools of all kinds\,\nrolling carts\, large welding tables\,\noxy acetylene set\,\nextra oxy and CO2 cylinders\,\nfencing and gate panels\,\ngenerators\,\ngas cans\,\nportable generator\,\nparts washer\,\nlarge shop power tools\,\npress\,\nHusky upright air compressor\,\nMiller dial Arc 250 AC DC welder\,\ncollectibles\,\nscrap metal of all types including a large amount of stainless steel and much much more.\nDon’t miss this sale!
URL:https://fresnoauctioncompany.com/event/2-18-23/
LOCATION:CA
CATEGORIES:Estate Auction
ATTACH;FMTTYPE=image/jpeg:https://fresnoauctioncompany.com/wp-content/uploads/2023/01/Compress_20230214_164934_4497-scaled.jpg
END:VEVENT
END:VCALENDAR