BEGIN:VCALENDAR
VERSION:2.0
PRODID:-//Fresno Estates &amp; Auction Company - ECPv6.15.18//NONSGML v1.0//EN
CALSCALE:GREGORIAN
METHOD:PUBLISH
X-WR-CALNAME:Fresno Estates &amp; Auction Company
X-ORIGINAL-URL:https://fresnoauctioncompany.com
X-WR-CALDESC:Events for Fresno Estates &amp; Auction Company
REFRESH-INTERVAL;VALUE=DURATION:PT1H
X-Robots-Tag:noindex
X-PUBLISHED-TTL:PT1H
BEGIN:VTIMEZONE
TZID:America/Los_Angeles
BEGIN:DAYLIGHT
TZOFFSETFROM:-0800
TZOFFSETTO:-0700
TZNAME:PDT
DTSTART:20220313T100000
END:DAYLIGHT
BEGIN:STANDARD
TZOFFSETFROM:-0700
TZOFFSETTO:-0800
TZNAME:PST
DTSTART:20221106T090000
END:STANDARD
BEGIN:DAYLIGHT
TZOFFSETFROM:-0800
TZOFFSETTO:-0700
TZNAME:PDT
DTSTART:20230312T100000
END:DAYLIGHT
BEGIN:STANDARD
TZOFFSETFROM:-0700
TZOFFSETTO:-0800
TZNAME:PST
DTSTART:20231105T090000
END:STANDARD
BEGIN:DAYLIGHT
TZOFFSETFROM:-0800
TZOFFSETTO:-0700
TZNAME:PDT
DTSTART:20240310T100000
END:DAYLIGHT
BEGIN:STANDARD
TZOFFSETFROM:-0700
TZOFFSETTO:-0800
TZNAME:PST
DTSTART:20241103T090000
END:STANDARD
END:VTIMEZONE
BEGIN:VEVENT
DTSTART;TZID=America/Los_Angeles:20230211T080000
DTEND;TZID=America/Los_Angeles:20230211T170000
DTSTAMP:20260421T092320
CREATED:20230110T164124Z
LAST-MODIFIED:20230208T003458Z
UID:540-1676102400-1676134800@fresnoauctioncompany.com
SUMMARY:2-11-23 BIG Hanford Estate Auction with Equipment\, Ford Tractor 8600\, Restored Vintage JD  and More!
DESCRIPTION:14551 Blowers Avenue Hanford\, CA 93230\nThe location is just North of Excelsior Avenue  and East of Highway 41. \nClick here for Google scrollable & expandable photos \nFeaturing;\nAntique John Deere model 420-w restored tractor\,\nFord 8600 diesel tractor\,\nMcCormick Farmall 400 diesel tractor with spray boom\,\n2001 Chevy Silverado X cab pickup\,\n1999 Lexus ls400\,\n1980 Chevy Silverado square body Survivor truck with camper shell\,\nVintage Honda CB 360 Survivor motorcycle\,\n20 ft tool carrier\,\nJD 3 point heavy duty hydraulic log splitter\,\nJD 3 point heavy duty hydraulic 6 row plow\,\nGD 3-point heavy duty hydraulic 8 sweep rollover plow\,\nnewer PDM 3-point PTO poly tank spray rig\,\nJohn Deere towable 300 gallon spray rig\,\nTowner offset disc\,\nsolid toolbar with a-frame\,\n7 1/2 ft x 18 ft flatbed trailer\,\nsix row hydraulic flail shredder\,\nVintage pneumatic rolling Grease tank\,\nShopsmith\,\nladders\,\nsprayers\,\nseveral tool boxes\,\nhand and power tools of all kinds\,\nsandblaster\,\nshop light\,\nSnapper riding mower\,\ncherry picker\,\nengine stand\,\ngas rototiller\,\noxy acetylene setup\,\nbench grinders\,\nmetal storage cabinets\,\nyard tools of all kinds\,\nBolt and nut bins and organizers\,\nAC/DC welder\,\ndrill press\,\nChop saw\,\nShop fans\,\nPorta power\,\npress\,\nair compressor\,\nusable metal\,\nscrap metal\,\nvintage riveted tanks\,\nguitars\,\nportable charcoal and wood barbecue\,\nYard statuary\,\nand yard art\,\nStatue of Liberty yard lights\,\nlarge Newer Quality Grill Pro stainless propane bbq\,\nlots of vintage cast iron cookware\,\nquality kitchenware\,\nstainless top quality Center Island with knife block\,\nOak China cabinet\,\nround oak table with six press back chairs\,\nvintage radio stereo\,\nvintage matching sofa loveseat and chair in mint condition\,\ngrandfather clock\,\norgan\,\ncollectibles\,\nglassware and china\,\nchest and upright freezers\,\nrefrigerator\,\nwasher & dryer\,\nquality bedroom furniture\,\nCollectibles of all kinds\,\nclothing and much much more. \nPlease call Steve at 559-930-7218 for further details
URL:https://fresnoauctioncompany.com/event/2-11-23/
LOCATION:CA
CATEGORIES:Estate Auction
ATTACH;FMTTYPE=image/jpeg:https://fresnoauctioncompany.com/wp-content/uploads/2023/01/20230202_113816-scaled.jpg
END:VEVENT
END:VCALENDAR