BEGIN:VCALENDAR
VERSION:2.0
PRODID:-//Fresno Estates &amp; Auction Company - ECPv6.15.18//NONSGML v1.0//EN
CALSCALE:GREGORIAN
METHOD:PUBLISH
X-ORIGINAL-URL:https://fresnoauctioncompany.com
X-WR-CALDESC:Events for Fresno Estates &amp; Auction Company
REFRESH-INTERVAL;VALUE=DURATION:PT1H
X-Robots-Tag:noindex
X-PUBLISHED-TTL:PT1H
BEGIN:VTIMEZONE
TZID:America/Los_Angeles
BEGIN:DAYLIGHT
TZOFFSETFROM:-0800
TZOFFSETTO:-0700
TZNAME:PDT
DTSTART:20220313T100000
END:DAYLIGHT
BEGIN:STANDARD
TZOFFSETFROM:-0700
TZOFFSETTO:-0800
TZNAME:PST
DTSTART:20221106T090000
END:STANDARD
BEGIN:DAYLIGHT
TZOFFSETFROM:-0800
TZOFFSETTO:-0700
TZNAME:PDT
DTSTART:20230312T100000
END:DAYLIGHT
BEGIN:STANDARD
TZOFFSETFROM:-0700
TZOFFSETTO:-0800
TZNAME:PST
DTSTART:20231105T090000
END:STANDARD
BEGIN:DAYLIGHT
TZOFFSETFROM:-0800
TZOFFSETTO:-0700
TZNAME:PDT
DTSTART:20240310T100000
END:DAYLIGHT
BEGIN:STANDARD
TZOFFSETFROM:-0700
TZOFFSETTO:-0800
TZNAME:PST
DTSTART:20241103T090000
END:STANDARD
END:VTIMEZONE
BEGIN:VEVENT
DTSTART;TZID=America/Los_Angeles:20230205T080000
DTEND;TZID=America/Los_Angeles:20230205T150000
DTSTAMP:20260421T122133
CREATED:20230201T000414Z
LAST-MODIFIED:20230202T183317Z
UID:998-1675584000-1675609200@fresnoauctioncompany.com
SUMMARY:2-5-23 SUNDAY Small Clean Home Estate Auction 10am
DESCRIPTION:6114 N. Orchard Fresno CA 93710 at 10am\nNorth of Bullard and West of First\nPreview 8 am – 10am \nCLICK HERE for scrollable/expandable google photo link \nThis auction Features:\nQuality items including \nComfort Select electric bed\nCurio cabinet\,\nEasy chairs\,\nPole lamp table\,\nCoffee table\,\nSofa and loveseat\,\nHalf round table\,\nFigurines\,\nAntiques & ……….Collectibles\,\nVintage typewriter\,\nHall tree\,\nBedroom set with mirrored dresser\,\nTole painted night stand\,\nVintage drop front secretary\,\nTall dresser\,\nCabbage Patch Kids\nClothing\,\nClothing chest\,\nDecorative wall décor\,\nBathroom accessories\,\nVintage transistor radio\,\nLinen\,\nVintage handmade quilts\,\nEntertainment cabinet\,\nvintage decorator pillow\,\nBeautiful Lane Cedar chest\,\nFramed flag\,\nBookcases\,\nBooks\,\nVintage wooden shoe shine box\,\nCollection of handmade Wooden bird houses\,\nhand and power wood working tools\,\ncement bird baths\,\nyard art\,\nwooden benches\,\nTrimmer Reel lawn mower\,\npropane BBQ\,\nwheel barrow\nand More!
URL:https://fresnoauctioncompany.com/event/2-5-23/
LOCATION:CA
CATEGORIES:Estate Auction
END:VEVENT
END:VCALENDAR